BEGIN:VCALENDAR
VERSION:2.0
PRODID:-//Milford Baptist Church - ECPv6.15.20//NONSGML v1.0//EN
CALSCALE:GREGORIAN
METHOD:PUBLISH
X-ORIGINAL-URL:https://milfordbaptistchurch.com
X-WR-CALDESC:Events for Milford Baptist Church
REFRESH-INTERVAL;VALUE=DURATION:PT1H
X-Robots-Tag:noindex
X-PUBLISHED-TTL:PT1H
BEGIN:VTIMEZONE
TZID:UTC
BEGIN:STANDARD
TZOFFSETFROM:+0000
TZOFFSETTO:+0000
TZNAME:UTC
DTSTART:20250101T000000
END:STANDARD
END:VTIMEZONE
BEGIN:VEVENT
DTSTART;TZID=UTC:20260302T183000
DTEND;TZID=UTC:20260302T193000
DTSTAMP:20260420T172311
CREATED:20260224T023725Z
LAST-MODIFIED:20260224T023725Z
UID:1574-1772476200-1772479800@milfordbaptistchurch.com
SUMMARY:Ladies Ministry
DESCRIPTION:Our Ladies’ Bible Study will meet again on Monday\, March 2\nat 6:30 PM. If you missed the first one\, there is still time to join\nthis amazing group ladies\, as we begin “Having a Heart in a\nMartha World”. See Linda Howard for details.
URL:https://milfordbaptistchurch.com/event/ladies-ministry/
CATEGORIES:Ladies
END:VEVENT
BEGIN:VEVENT
DTSTART;TZID=UTC:20260321T080000
DTEND;TZID=UTC:20260321T110000
DTSTAMP:20260420T172311
CREATED:20260305T011218Z
LAST-MODIFIED:20260305T011218Z
UID:1578-1774080000-1774090800@milfordbaptistchurch.com
SUMMARY:Milford Pancake Breakfast
DESCRIPTION:Milford Pancake Breakfast\n\n\nSaturday\, March 21st; 8:00 AM-11:00AM\n\n\nMilford Baptist Church Fellowship Hall\n\n\nCome and fellowship while enjoying a wonderful breakfast of pancakes\, breakfast meat\, eggs\, juice\, and coffee. The cost is $10. Proceeds will go toward the Youth Summer Mission Trip.  
URL:https://milfordbaptistchurch.com/event/milford-pancake-breakfast/
END:VEVENT
BEGIN:VEVENT
DTSTART;TZID=UTC:20260413T183000
DTEND;TZID=UTC:20260413T183000
DTSTAMP:20260420T172311
CREATED:20260407T001843Z
LAST-MODIFIED:20260407T001843Z
UID:1585-1776105000-1776105000@milfordbaptistchurch.com
SUMMARY:Ladies Ministry
DESCRIPTION:Ladies come join us for our next Bible Study on Monday\, April 13th\n(date change) at 6:30 PM @ Traci Monaghan’s home. \nSee Linda Howard for any questions.
URL:https://milfordbaptistchurch.com/event/ladies-ministry-2/
END:VEVENT
BEGIN:VEVENT
DTSTART;TZID=UTC:20260502T104500
DTEND;TZID=UTC:20260502T104500
DTSTAMP:20260420T172311
CREATED:20260407T002243Z
LAST-MODIFIED:20260407T002243Z
UID:1587-1777718700-1777718700@milfordbaptistchurch.com
SUMMARY:Showers of Blessings Spring Ladies Brunch
DESCRIPTION:Save the date ladies—Showers of Blessings Spring Ladies Brunch\nHe comes to us like rain bringing life\, restoration\,\nrefreshment\, and always in the right time.\nMay 2nd at 10:45 here at Milford. Inspiring and anointed speaker\,\nLauren Sullivan and worship led by Traci Monaghan and daughter\,\nJena. You don’t want to miss a time of refreshing\, restoration\, and\nrenewal.
URL:https://milfordbaptistchurch.com/event/showers-of-blessings-spring-ladies-brunch/
END:VEVENT
BEGIN:VEVENT
DTSTART;TZID=UTC:20260408T130000
DTEND;TZID=UTC:20260408T130000
DTSTAMP:20260420T172311
CREATED:20260407T001653Z
LAST-MODIFIED:20260407T001653Z
UID:1582-1775653200-1775653200@milfordbaptistchurch.com
SUMMARY:SAS—Seniors and Such
DESCRIPTION:Game Day on Wednesday\, April 8th at 1:00 at the church. \nDon’t forget to bring a prize for the Bingo game.
URL:https://milfordbaptistchurch.com/event/sas-seniors-and-such/
CATEGORIES:Seniors
END:VEVENT
BEGIN:VEVENT
DTSTART;TZID=UTC:20260418T100000
DTEND;TZID=UTC:20260418T140000
DTSTAMP:20260420T172311
CREATED:20260305T011308Z
LAST-MODIFIED:20260305T011308Z
UID:1580-1776506400-1776520800@milfordbaptistchurch.com
SUMMARY:Youth Car Wash
DESCRIPTION:Youth Car Wash\n\n\nApril 18\, 2026; 10:00 AM- 2:00 PM\n\n\nMilford Baptist Church\n\n\nAnnual Youth car wash!!! All proceeds go toward the Youth Summer Mission trip. 
URL:https://milfordbaptistchurch.com/event/youth-car-wash/
END:VEVENT
BEGIN:VEVENT
DTSTART;VALUE=DATE:20260615
DTEND;VALUE=DATE:20260620
DTSTAMP:20260420T172311
CREATED:20260224T024004Z
LAST-MODIFIED:20260224T024004Z
UID:1576-1781481600-1781913599@milfordbaptistchurch.com
SUMMARY:Youth Mission Trip 2026
DESCRIPTION:CentriFUGE\nBrewton-Parker College\nMt. Vernon\, GA\nCost $250
URL:https://milfordbaptistchurch.com/event/youth-mission-trip-2026/
END:VEVENT
END:VCALENDAR