BEGIN:VCALENDAR
VERSION:2.0
PRODID:-//Milford Baptist Church - ECPv6.15.20//NONSGML v1.0//EN
CALSCALE:GREGORIAN
METHOD:PUBLISH
X-WR-CALNAME:Milford Baptist Church
X-ORIGINAL-URL:https://milfordbaptistchurch.com
X-WR-CALDESC:Events for Milford Baptist Church
REFRESH-INTERVAL;VALUE=DURATION:PT1H
X-Robots-Tag:noindex
X-PUBLISHED-TTL:PT1H
BEGIN:VTIMEZONE
TZID:UTC
BEGIN:STANDARD
TZOFFSETFROM:+0000
TZOFFSETTO:+0000
TZNAME:UTC
DTSTART:20230101T000000
END:STANDARD
END:VTIMEZONE
BEGIN:VEVENT
DTSTART;VALUE=DATE:20241012
DTEND;VALUE=DATE:20241013
DTSTAMP:20260420T172748
CREATED:20240829T133814Z
LAST-MODIFIED:20240829T143050Z
UID:1325-1728691200-1728777599@milfordbaptistchurch.com
SUMMARY:Ladies Luncheon
DESCRIPTION:Our Ladies Ministry will be hosting  Ladies Luncheon on October 12th\, 2024. We will have games\, food\, and a guest speaker. Seating availability will be limited. Please call our church office or email candicefarmer@milfordbaptistchurch.com with any questions.
URL:https://milfordbaptistchurch.com/event/ladies-luncheon/
END:VEVENT
BEGIN:VEVENT
DTSTART;TZID=UTC:20241010T183000
DTEND;TZID=UTC:20241010T193000
DTSTAMP:20260420T172748
CREATED:20240911T013816Z
LAST-MODIFIED:20240911T013816Z
UID:1357-1728585000-1728588600@milfordbaptistchurch.com
SUMMARY:C3 Board Meeting
DESCRIPTION:Milford’s C3 Staff will be having a board meeting on October 10th at 6:30pm. This is strictly for our C3 board.
URL:https://milfordbaptistchurch.com/event/c3-board-meeting/
END:VEVENT
BEGIN:VEVENT
DTSTART;VALUE=DATE:20241006
DTEND;VALUE=DATE:20241007
DTSTAMP:20260420T172748
CREATED:20240829T134518Z
LAST-MODIFIED:20240829T134518Z
UID:1329-1728172800-1728259199@milfordbaptistchurch.com
SUMMARY:Baby Shower for Ben & Samantha Humkey
DESCRIPTION:Milford Baptist Church will be hosting a baby shower for Milford’s own Ben and Samantha Humkey. We will be celebrating the upcoming birth of their first child\, Madelyn Rae Humkey. Time will be announced closer to date. Please check back for details. Baby registry can be found in the link below. \nhttps://my.babylist.com/bb_humkey
URL:https://milfordbaptistchurch.com/event/baby-shower-for-ben-samantha-humkey/
END:VEVENT
BEGIN:VEVENT
DTSTART;TZID=UTC:20241005T080000
DTEND;TZID=UTC:20241005T150000
DTSTAMP:20260420T172748
CREATED:20240911T014051Z
LAST-MODIFIED:20240911T014458Z
UID:1363-1728115200-1728140400@milfordbaptistchurch.com
SUMMARY:Mission 127 Adventure Teens
DESCRIPTION:Please check back soon for more details. One Bus is reserved for this event.
URL:https://milfordbaptistchurch.com/event/mission-127-adventure-teens/
END:VEVENT
BEGIN:VEVENT
DTSTART;TZID=UTC:20240927T123000
DTEND;TZID=UTC:20240927T150000
DTSTAMP:20260420T172748
CREATED:20240911T013653Z
LAST-MODIFIED:20240911T013653Z
UID:1355-1727440200-1727449200@milfordbaptistchurch.com
SUMMARY:Senior Adult Game Day at Walton Village
DESCRIPTION:Milford will be partaking in Senior Adult Game Day at Walton Village! We will be meeting at the church at 12:30pm to take a bus over\, or you can meet us there at 1pm.
URL:https://milfordbaptistchurch.com/event/senior-adult-game-day-at-walton-village/
END:VEVENT
BEGIN:VEVENT
DTSTART;TZID=UTC:20240926T093000
DTEND;TZID=UTC:20240926T160000
DTSTAMP:20260420T172748
CREATED:20240911T014012Z
LAST-MODIFIED:20240911T014427Z
UID:1361-1727343000-1727366400@milfordbaptistchurch.com
SUMMARY:Walton Village Adventure Center
DESCRIPTION:Please check back soon for more details. Both Buses are reserved for this event.
URL:https://milfordbaptistchurch.com/event/walton-village-adventure-center-2/
END:VEVENT
BEGIN:VEVENT
DTSTART;TZID=UTC:20240924T093000
DTEND;TZID=UTC:20240924T160000
DTSTAMP:20260420T172748
CREATED:20240911T013929Z
LAST-MODIFIED:20240911T014353Z
UID:1359-1727170200-1727193600@milfordbaptistchurch.com
SUMMARY:Walton Village Adventure Center
DESCRIPTION:Please check back soon for more details. Both Buses are reserved for this event.
URL:https://milfordbaptistchurch.com/event/walton-village-adventure-center/
END:VEVENT
BEGIN:VEVENT
DTSTART;TZID=UTC:20240920T174500
DTEND;TZID=UTC:20240921T073000
DTSTAMP:20260420T172748
CREATED:20240911T013413Z
LAST-MODIFIED:20240911T013441Z
UID:1353-1726854300-1726903800@milfordbaptistchurch.com
SUMMARY:Youth Fall Lock In
DESCRIPTION:Milford Baptist Church will be hosting a Lock In for our Student Ministry. Cost is $30 per student\, and will included a field trip\, and a meal eating out together.
URL:https://milfordbaptistchurch.com/event/youth-fall-lock-in/
END:VEVENT
BEGIN:VEVENT
DTSTART;TZID=UTC:20240915T170000
DTEND;TZID=UTC:20240915T180000
DTSTAMP:20260420T172748
CREATED:20240829T133950Z
LAST-MODIFIED:20240829T133950Z
UID:1327-1726419600-1726423200@milfordbaptistchurch.com
SUMMARY:Our Journey Church - Baptism
DESCRIPTION:Our Journey Church will be hosting a baptism service in our sanctuary at Milford Baptist Church on September 15th\, 2024 at 5pm.
URL:https://milfordbaptistchurch.com/event/our-journey-church-baptism/
END:VEVENT
BEGIN:VEVENT
DTSTART;TZID=UTC:20240831T150000
DTEND;TZID=UTC:20240831T213000
DTSTAMP:20260420T172748
CREATED:20240829T133347Z
LAST-MODIFIED:20240829T133347Z
UID:1323-1725116400-1725139800@milfordbaptistchurch.com
SUMMARY:Private Event (Fellowship Hall Unavailable)
DESCRIPTION:A private event has been booked in our fellowship hall on this date. This is an invite only event. Church member will not have access to the fellowship hall during this time.
URL:https://milfordbaptistchurch.com/event/private-event-fellowship-hall-unavailable/
END:VEVENT
END:VCALENDAR